Workbook

Sheet Rekapitulácia stavby
A1: Export Komplet | BA1: 2.0 | BT1: False | BU1: False | BV1: {e6deb2a3-493a-40eb-bc84-3a422430efb4}
AR2: >> skryté stĺpce << | BS2: 0,001 | BT2: 20
BS3: 0,001 | BT3: 20
D4: REKAPITULÁCIA STAVBY | AS4: v --- nižšie sa nachádzajú doplnkové a pomocné údaje k zostavám --- v | BS4: 0,001
D5: Kód: | K5: 2019/1BIS | BS5: 0,001
D6: Stavba: | K6: BROTHER INDUSTRIES (SLOVAKIA) | BS6: 0,001
D7: JKSO: | AK7: KS: | BS7: 0,001
D8: Miesto: | AK8: Dátum: | BS8: 0,001
BS9: 0,001
D10: Objednávateľ: | AK10: IČO: | BS10: 0,001
E11: BROTHER INDUSTRIES (SLOVAKIA) | AK11: IČ DPH: | BS11: 0,001
BS12: 0,001
D13: Zhotoviteľ: | AK13: IČO: | BS13: 0,001
AK14: IČ DPH: | BS14: 0,001
BS15: False
D16: Projektant: | AK16: IČO: | BS16: False
AK17: IČ DPH: | BS17: True
BS18: 0,01
D19: Spracovateľ: | AK19: IČO: | BS19: 0,01
AK20: IČ DPH: | BS20: False
D22: Poznámka:
D26: Cena bez DPH | AK26: =ROUND(AG94,2) -> 0
L28: Sadzba dane | W28: Základ dane | AK28: Výška dane
D29: DPH | F29: základná | L29: 0.2 | W29: =ROUND(AZ94, 2) -> 0 | AK29: =ROUND(AV94, 2) -> 0
F30: znížená | L30: 0.2 | W30: =ROUND(BA94, 2) -> 0 | AK30: =ROUND(AW94, 2) -> 0
F31: zákl. prenesená | L31: 0.2 | W31: =ROUND(BB94, 2) -> 0 | AK31: 0
F32: zníž. prenesená | L32: 0.2 | W32: =ROUND(BC94, 2) -> 0 | AK32: 0
F33: nulová | L33: 0 | W33: =ROUND(BD94, 2) -> 0 | AK33: 0
D35: Cena s DPH | T35: v | X35: EUR | AK35: =SUM(AK26:AK33) -> 0
D49: Projektant | AH49: Spracovateľ
D60: Dátum a podpis: | V60: Pečiatka | AH60: Dátum a podpis: | AM60: Pečiatka
D64: Objednávateľ | AH64: Zhotoviteľ
D75: Dátum a podpis: | V75: Pečiatka | AH75: Dátum a podpis: | AM75: Pečiatka
C82: REKAPITULÁCIA OBJEKTOV STAVBY
C84: Kód: | L84: =K5 -> 2019/1BIS
C85: Stavba: | L85: =K6 -> BROTHER INDUSTRIES (SLOVAKIA)
C87: Miesto: | L87: =IF(K8="","",K8) | AI87: Dátum: | AM87: =IF(AN8= "","",AN8)
C89: Objednávateľ: | L89: =IF(E11= "","",E11) -> BROTHER INDUSTRIES (SLOVAKIA) | AI89: Projektant: | AM89: =IF(E17="","",E17) | AS89: Informatívne údaje z listov zákaziek
C90: Zhotoviteľ: | L90: =IF(E14="","",E14) | AI90: Spracovateľ: | AM90: =IF(E20="","",E20)
C92: Kód | I92: Popis | AG92: Cena bez DPH [EUR] | AN92: Cena s DPH [EUR] | AQ92: Typ | AS92: z toho Ostat._x000D_ náklady [EUR] | AT92: DPH [EUR] | AU92: Normohodiny [h] | AV92: DPH základná [EUR] | AW92: DPH znížená [EUR] | AX92: DPH základná prenesená_x000D_ [EUR] | AY92: DPH znížená prenesená_x000D_ [EUR] | AZ92: Základňa_x000D_ DPH základná | BA92: Základňa_x000D_ DPH znížená | BB92: Základňa_x000D_ DPH zákl. prenesená | BC92: Základňa_x000D_ DPH zníž. prenesená | BD92: Základňa_x000D_ DPH nulová
C94: Náklady z rozpočtov | AG94: =ROUND(AG95,2) -> 0 | AN94: =SUM(AG94,AT94) -> 0 | AS94: =ROUND(AS95,2) -> 0 | AT94: =ROUND(SUM(AV94:AW94),2) -> 0 | AU94: =ROUND(AU95,5) -> 1082.5952 | AV94: =ROUND(AZ94*L29,2) -> 0 | AW94: =ROUND(BA94*L30,2) -> 0 | AX94: =ROUND(BB94*L29,2) -> 0 | AY94: =ROUND(BC94*L30,2) -> 0 | AZ94: =ROUND(AZ95,2) -> 0 | BA94: =ROUND(BA95,2) -> 0 | BB94: =ROUND(BB95,2) -> 0 | BC94: =ROUND(BC95,2) -> 0 | BD94: =ROUND(BD95,2) -> 0 | BS94: D | BT94: 0 | BU94: ###NOIMPORT### | BV94: IMPORT | BW94: {e6deb2a3-493a-40eb-bc84-3a422430efb4} | BX94: {00000000-0000-0000-0000-000000000000}
D95: SO01 | J95: Prevádzka Krupina | AG95: =ROUND(SUM(AG96:AG97),2) -> 0 | AN95: =SUM(AG95,AT95) -> 0 | AQ95: STA | AS95: =ROUND(SUM(AS96:AS97),2) -> 0 | AT95: =ROUND(SUM(AV95:AW95),2) -> 0 | AU95: =ROUND(SUM(AU96:AU97),5) -> 1082.5952 | AV95: =ROUND(AZ95*L29,2) -> 0 | AW95: =ROUND(BA95*L30,2) -> 0 | AX95: =ROUND(BB95*L29,2) -> 0 | AY95: =ROUND(BC95*L30,2) -> 0 | AZ95: =ROUND(SUM(AZ96:AZ97),2) -> 0 | BA95: =ROUND(SUM(BA96:BA97),2) -> 0 | BB95: =ROUND(SUM(BB96:BB97),2) -> 0 | BC95: =ROUND(SUM(BC96:BC97),2) -> 0 | BD95: =ROUND(SUM(BD96:BD97),2) -> 0 | BS95: D | BT95: 1 | BU95: ###NOIMPORT### | BV95: IMPORT | BW95: {3aa9f7cf-1d07-4abc-a8b6-7647dd820420} | BX95: {e6deb2a3-493a-40eb-bc84-3a422430efb4} | CM95: 0
A96: / | E96: SO01.1 | K96: Chladenie/vykurovanie prevádzky Krupina | AG96: ='SO01.1 - Chladenie-vykuro...'!J34 -> 0 | AN96: =SUM(AG96,AT96) -> 0 | AQ96: Časť | AS96: 0 | AT96: =ROUND(SUM(AV96:AW96),2) -> 0 | AU96: ='SO01.1 - Chladenie-vykuro...'!P130 -> 753.74801 | AV96: ='SO01.1 - Chladenie-vykuro...'!J37 -> 0 | AW96: ='SO01.1 - Chladenie-vykuro...'!J38 -> 0 | AX96: ='SO01.1 - Chladenie-vykuro...'!J39 -> 0 | AY96: ='SO01.1 - Chladenie-vykuro...'!J40 -> 0 | AZ96: ='SO01.1 - Chladenie-vykuro...'!F37 -> 0 | BA96: ='SO01.1 - Chladenie-vykuro...'!F38 -> 0 | BB96: ='SO01.1 - Chladenie-vykuro...'!F39 -> 0 | BC96: ='SO01.1 - Chladenie-vykuro...'!F40 -> 0 | BD96: ='SO01.1 - Chladenie-vykuro...'!F41 -> 0 | BT96: 2 | BV96: IMPORT | BW96: {d2060b99-7186-4b0a-b76e-442f1a7a3dc2} | BX96: {3aa9f7cf-1d07-4abc-a8b6-7647dd820420}
A97: / | E97: SO01.2 | K97: Chladenie kancelárskych priestorov | AG97: ='SO01.2 - Chladenie kancel...'!J34 -> 0 | AN97: =SUM(AG97,AT97) -> 0 | AQ97: Časť | AS97: 0 | AT97: =ROUND(SUM(AV97:AW97),2) -> 0 | AU97: ='SO01.2 - Chladenie kancel...'!P125 -> 328.8472 | AV97: ='SO01.2 - Chladenie kancel...'!J37 -> 0 | AW97: ='SO01.2 - Chladenie kancel...'!J38 -> 0 | AX97: ='SO01.2 - Chladenie kancel...'!J39 -> 0 | AY97: ='SO01.2 - Chladenie kancel...'!J40 -> 0 | AZ97: ='SO01.2 - Chladenie kancel...'!F37 -> 0 | BA97: ='SO01.2 - Chladenie kancel...'!F38 -> 0 | BB97: ='SO01.2 - Chladenie kancel...'!F39 -> 0 | BC97: ='SO01.2 - Chladenie kancel...'!F40 -> 0 | BD97: ='SO01.2 - Chladenie kancel...'!F41 -> 0 | BT97: 2 | BV97: IMPORT | BW97: {0a71baeb-1bf9-474d-8dbd-0d2c5a5fef85} | BX97: {3aa9f7cf-1d07-4abc-a8b6-7647dd820420}

Sheet SO01.1 - Chladenie-vykuro...
L2: >> skryté stĺpce << | AT2: {d2060b99-7186-4b0a-b76e-442f1a7a3dc2}
AT3: 0
D4: KRYCÍ LIST ROZPOČTU | M4: v --- nižšie sa nachádzajú doplnkové a pomocné údaje k zostavám --- v | AT4: False
D6: Stavba:
E7: ='Rekapitulácia stavby'!K6 -> BROTHER INDUSTRIES (SLOVAKIA)
D8: Objekt:
E9: SO01 - Prevádzka Krupina
D10: Časť:
E11: SO01.1 - Chladenie/vykurovanie prevádzky Krupina
D13: JKSO: | I13: KS:
D14: Miesto: | I14: Dátum:
D16: Objednávateľ: | I16: IČO:
E17: BROTHER INDUSTRIES (SLOVAKIA) | I17: IČ DPH:
D19: Zhotoviteľ: | I19: IČO: | J19: ='Rekapitulácia stavby'!AN13
E20: ='Rekapitulácia stavby'!E14 | I20: IČ DPH: | J20: ='Rekapitulácia stavby'!AN14
D22: Projektant: | I22: IČO: | J22: =IF('Rekapitulácia stavby'!AN16="","",'Rekapitulácia stavby'!AN16)
E23: =IF('Rekapitulácia stavby'!E17="","",'Rekapitulácia stavby'!E17) | I23: IČ DPH: | J23: =IF('Rekapitulácia stavby'!AN17="","",'Rekapitulácia stavby'!AN17)
D25: Spracovateľ: | I25: IČO: | J25: =IF('Rekapitulácia stavby'!AN19="","",'Rekapitulácia stavby'!AN19)
E26: =IF('Rekapitulácia stavby'!E20="","",'Rekapitulácia stavby'!E20) | I26: IČ DPH: | J26: =IF('Rekapitulácia stavby'!AN20="","",'Rekapitulácia stavby'!AN20)
D28: Poznámka:
D30: Prenesenie daňovej povinnosti:
E31: Pri fakturácii stavebných prác bude uplatnený režim prenosu daňovej povinnosti na príjemcu plnenia._x000D_ DPH zo základu sadzby odvedie príjemca plnenia podľa § 69 ods. 12 zákona č. 222/2004 o DPH.
D34: Cena bez DPH | J34: =ROUND(J130, 2) -> 0
F36: Základ dane | I36: Sadzba dane | J36: Výška dane
D37: DPH | E37: základná | F37: =ROUND((SUM(BE130:BE194)), 2) -> 0 | I37: 0.2 | J37: =ROUND(((SUM(BE130:BE194))*I37), 2) -> 0
E38: znížená | F38: =ROUND((SUM(BF130:BF194)), 2) -> 0 | I38: 0.2 | J38: =ROUND(((SUM(BF130:BF194))*I38), 2) -> 0
E39: zákl. prenesená | F39: =ROUND((SUM(BG130:BG194)), 2) -> 0 | I39: 0.2 | J39: =0 -> 0
E40: zníž. prenesená | F40: =ROUND((SUM(BH130:BH194)), 2) -> 0 | I40: 0.2 | J40: =0 -> 0
E41: nulová | F41: =ROUND((SUM(BI130:BI194)), 2) -> 0 | I41: 0 | J41: =0 -> 0
D43: Cena s DPH | G43: v | H43: EUR | J43: =SUM(J34:J41) -> 0
D50: Projektant | G50: Spracovateľ
D61: Dátum a podpis: | F61: Pečiatka | G61: Dátum a podpis: | J61: Pečiatka
D65: Objednávateľ | G65: Zhotoviteľ
D76: Dátum a podpis: | F76: Pečiatka | G76: Dátum a podpis: | J76: Pečiatka
C82: REKAPITULÁCIA ROZPOČTU
C84: Stavba:
E85: =E7 -> BROTHER INDUSTRIES (SLOVAKIA)
C86: Objekt:
E87: SO01 - Prevádzka Krupina
C88: Časť:
E89: =E11 -> SO01.1 - Chladenie/vykurovanie prevádzky Krupina
C91: Miesto: | F91: =F14 | I91: Dátum: | J91: =IF(J14="","",J14)
C93: Objednávateľ: | F93: =E17 -> BROTHER INDUSTRIES (SLOVAKIA) | I93: Projektant: | J93: =E23
C94: Zhotoviteľ: | F94: =IF(E20="","",E20) | I94: Spracovateľ: | J94: =E26
C96: Kód dielu - Popis | J96: Cena celkom [EUR]
C98: Náklady z rozpočtu | J98: =J130 -> 0 | AU98: -1
D99: HSV - Práce a dodávky HSV | J99: =J131 -> 0
D100: 1 - Zemné práce | J100: =J132 -> 0
D101: 4 - Vodorovné konštrukcie | J101: =J141 -> 0
D102: 5 - Komunikácie | J102: =J143 -> 0
D103: 8 - Rúrové vedenie | J103: =J146 -> 0
D104: PSV - Práce a dodávky PSV | J104: =J159 -> 0
D105: 713 - Izolácie tepelné | J105: =J160 -> 0
D106: 732 - Ústredné kúrenie - strojovne | J106: =J168 -> 0
D107: 733 - Ústredné kúrenie - rozvodné potrubie | J107: =J178 -> 0
D108: 735 - Ústredné kúrenie - vykurovacie telesá | J108: =J191 -> 0
C115: ROZPOČET
C117: Stavba:
E118: =E7 -> BROTHER INDUSTRIES (SLOVAKIA)
C119: Objekt:
E120: SO01 - Prevádzka Krupina
C121: Časť:
E122: =E11 -> SO01.1 - Chladenie/vykurovanie prevádzky Krupina
C124: Miesto: | F124: =F14 | I124: Dátum: | J124: =IF(J14="","",J14)
C126: Objednávateľ: | F126: =E17 -> BROTHER INDUSTRIES (SLOVAKIA) | I126: Projektant: | J126: =E23
C127: Zhotoviteľ: | F127: =IF(E20="","",E20) | I127: Spracovateľ: | J127: =E26
C129: PČ | D129: Typ | E129: Kód | F129: Popis | G129: MJ | H129: Množstvo | I129: J.cena [EUR] | J129: Cena celkom [EUR] | K129: Cenová sústava | N129: DPH | O129: J. Nh [h] | P129: Nh celkom [h] | Q129: J. hmotnosť [t] | R129: Hmotnosť celkom [t] | S129: J. suť [t] | T129: Suť Celkom [t]
C130: Náklady z rozpočtu | J130: =BK130 -> 0 | P130: =P131+P159 -> 753.74801 | R130: =R131+R159 -> 284.80122 | T130: =T131+T159 -> 5.2 | AT130: D | AU130: -1 | BK130: =BK131+BK159 -> 0
D131: D | E131: HSV | F131: Práce a dodávky HSV | J131: =BK131 -> 0 | P131: =P132+P141+P143+P146 -> 96.193 | R131: =R132+R141+R143+R146 -> 281.82808 | T131: =T132+T141+T143+T146 -> 5.2 | AR131: 1 | AT131: D | AU131: 0 | AY131: ROZPOCET | BK131: =BK132+BK141+BK143+BK146 -> 0
D132: D | E132: 1 | F132: Zemné práce | J132: =BK132 -> 0 | P132: =SUM(P133:P140) -> 17.253 | R132: =SUM(R133:R140) -> 120.571 | T132: =SUM(T133:T140) -> 0 | AR132: 1 | AT132: D | AU132: 1 | AY132: ROZPOCET | BK132: =SUM(BK133:BK140) -> 0
C133: 1 | D133: K | E133: 130901121 | F133: Búranie konštrukcií z prostého betónu neprekladaného kameňom vo vykopávkach | G133: m3 | H133: 1.5 | J133: =ROUND(I133*H133,3) -> 0 | N133: znížená | O133: 11.502 | P133: =O133*H133 -> 17.253 | Q133: 0 | R133: =Q133*H133 -> 0 | S133: 0 | T133: =S133*H133 -> 0 | AR133: 4 | AT133: K | AU133: 2 | AY133: ROZPOCET | BE133: =IF(N133="základná",J133,0) -> 0 | BF133: =IF(N133="znížená",J133,0) -> 0 | BG133: =IF(N133="zákl. prenesená",J133,0) -> 0 | BH133: =IF(N133="zníž. prenesená",J133,0) -> 0 | BI133: =IF(N133="nulová",J133,0) -> 0 | BJ133: 2 | BK133: =ROUND(I133*H133,3) -> 0 | BL133: 4 | BM133: 159749638
C134: 2 | D134: K | E134: 132201102 | F134: Výkop ryhy do šírky 600 mm v horn.3 nad 100 m3 | G134: m3 | H134: 450.6 | J134: =ROUND(I134*H134,3) -> 0 | N134: znížená | O134: 0 | P134: =O134*H134 -> 0 | Q134: 0 | R134: =Q134*H134 -> 0 | S134: 0 | T134: =S134*H134 -> 0 | AR134: 4 | AT134: K | AU134: 2 | AY134: ROZPOCET | BE134: =IF(N134="základná",J134,0) -> 0 | BF134: =IF(N134="znížená",J134,0) -> 0 | BG134: =IF(N134="zákl. prenesená",J134,0) -> 0 | BH134: =IF(N134="zníž. prenesená",J134,0) -> 0 | BI134: =IF(N134="nulová",J134,0) -> 0 | BJ134: 2 | BK134: =ROUND(I134*H134,3) -> 0 | BL134: 4 | BM134: -1067926106
C135: 3 | D135: K | E135: 132201109 | F135: Príplatok k cene za lepivosť horniny 3 | G135: m3 | H135: 142 | J135: =ROUND(I135*H135,3) -> 0 | N135: znížená | O135: 0 | P135: =O135*H135 -> 0 | Q135: 0 | R135: =Q135*H135 -> 0 | S135: 0 | T135: =S135*H135 -> 0 | AR135: 4 | AT135: K | AU135: 2 | AY135: ROZPOCET | BE135: =IF(N135="základná",J135,0) -> 0 | BF135: =IF(N135="znížená",J135,0) -> 0 | BG135: =IF(N135="zákl. prenesená",J135,0) -> 0 | BH135: =IF(N135="zníž. prenesená",J135,0) -> 0 | BI135: =IF(N135="nulová",J135,0) -> 0 | BJ135: 2 | BK135: =ROUND(I135*H135,3) -> 0 | BL135: 4 | BM135: -1801150967
C136: 4 | D136: K | E136: 164303101 | F136: Vodorovné premiestnenie výkopku po vode hor.1 až 4 do 500m | G136: m3 | H136: 108.641 | J136: =ROUND(I136*H136,3) -> 0 | N136: znížená | O136: 0 | P136: =O136*H136 -> 0 | Q136: 0 | R136: =Q136*H136 -> 0 | S136: 0 | T136: =S136*H136 -> 0 | AR136: 4 | AT136: K | AU136: 2 | AY136: ROZPOCET | BE136: =IF(N136="základná",J136,0) -> 0 | BF136: =IF(N136="znížená",J136,0) -> 0 | BG136: =IF(N136="zákl. prenesená",J136,0) -> 0 | BH136: =IF(N136="zníž. prenesená",J136,0) -> 0 | BI136: =IF(N136="nulová",J136,0) -> 0 | BJ136: 2 | BK136: =ROUND(I136*H136,3) -> 0 | BL136: 4 | BM136: -105929396
C137: 5 | D137: K | E137: 167101102 | F137: Nakladanie neuľahnutého výkopku z hornín tr.1-4 nad 100 do 1000 m3 | G137: m3 | H137: 108.641 | J137: =ROUND(I137*H137,3) -> 0 | N137: znížená | O137: 0 | P137: =O137*H137 -> 0 | Q137: 0 | R137: =Q137*H137 -> 0 | S137: 0 | T137: =S137*H137 -> 0 | AR137: 4 | AT137: K | AU137: 2 | AY137: ROZPOCET | BE137: =IF(N137="základná",J137,0) -> 0 | BF137: =IF(N137="znížená",J137,0) -> 0 | BG137: =IF(N137="zákl. prenesená",J137,0) -> 0 | BH137: =IF(N137="zníž. prenesená",J137,0) -> 0 | BI137: =IF(N137="nulová",J137,0) -> 0 | BJ137: 2 | BK137: =ROUND(I137*H137,3) -> 0 | BL137: 4 | BM137: 13575498
C138: 6 | D138: K | E138: 174101002 | F138: Zásyp sypaninou so zhutnením jám, šachiet, rýh, zárezov alebo okolo objektov nad 100 do 1000 m3 | G138: m3 | H138: 396.6 | J138: =ROUND(I138*H138,3) -> 0 | N138: znížená | O138: 0 | P138: =O138*H138 -> 0 | Q138: 0 | R138: =Q138*H138 -> 0 | S138: 0 | T138: =S138*H138 -> 0 | AR138: 4 | AT138: K | AU138: 2 | AY138: ROZPOCET | BE138: =IF(N138="základná",J138,0) -> 0 | BF138: =IF(N138="znížená",J138,0) -> 0 | BG138: =IF(N138="zákl. prenesená",J138,0) -> 0 | BH138: =IF(N138="zníž. prenesená",J138,0) -> 0 | BI138: =IF(N138="nulová",J138,0) -> 0 | BJ138: 2 | BK138: =ROUND(I138*H138,3) -> 0 | BL138: 4 | BM138: -861222939
C139: 7 | D139: K | E139: 175101101 | F139: Obsyp potrubia sypaninou z vhodných hornín 1 až 4 bez prehodenia sypaniny | G139: m3 | H139: 54 | J139: =ROUND(I139*H139,3) -> 0 | N139: znížená | O139: 0 | P139: =O139*H139 -> 0 | Q139: 0 | R139: =Q139*H139 -> 0 | S139: 0 | T139: =S139*H139 -> 0 | AR139: 4 | AT139: K | AU139: 2 | AY139: ROZPOCET | BE139: =IF(N139="základná",J139,0) -> 0 | BF139: =IF(N139="znížená",J139,0) -> 0 | BG139: =IF(N139="zákl. prenesená",J139,0) -> 0 | BH139: =IF(N139="zníž. prenesená",J139,0) -> 0 | BI139: =IF(N139="nulová",J139,0) -> 0 | BJ139: 2 | BK139: =ROUND(I139*H139,3) -> 0 | BL139: 4 | BM139: -763598600
C140: 8 | D140: M | E140: 5833714000 | F140: Štrkopiesok 0-16 N | G140: t | H140: 120.571 | J140: =ROUND(I140*H140,3) -> 0 | N140: znížená | O140: 0 | P140: =O140*H140 -> 0 | Q140: 1 | R140: =Q140*H140 -> 120.571 | S140: 0 | T140: =S140*H140 -> 0 | AR140: 8 | AT140: M | AU140: 2 | AY140: ROZPOCET | BE140: =IF(N140="základná",J140,0) -> 0 | BF140: =IF(N140="znížená",J140,0) -> 0 | BG140: =IF(N140="zákl. prenesená",J140,0) -> 0 | BH140: =IF(N140="zníž. prenesená",J140,0) -> 0 | BI140: =IF(N140="nulová",J140,0) -> 0 | BJ140: 2 | BK140: =ROUND(I140*H140,3) -> 0 | BL140: 4 | BM140: 2079879145
D141: D | E141: 4 | F141: Vodorovné konštrukcie | J141: =BK141 -> 0 | P141: =P142 -> 64.26 | R141: =R142 -> 0 | T141: =T142 -> 0 | AR141: 1 | AT141: D | AU141: 1 | AY141: ROZPOCET | BK141: =BK142 -> 0
C142: 9 | D142: K | E142: 451595111 | F142: Lôžko pod potrubie, stoky a drobné objekty, v otvorenom výkope z prehodeného výkopku | G142: m3 | H142: 36 | J142: =ROUND(I142*H142,3) -> 0 | N142: znížená | O142: 1.785 | P142: =O142*H142 -> 64.26 | Q142: 0 | R142: =Q142*H142 -> 0 | S142: 0 | T142: =S142*H142 -> 0 | AR142: 4 | AT142: K | AU142: 2 | AY142: ROZPOCET | BE142: =IF(N142="základná",J142,0) -> 0 | BF142: =IF(N142="znížená",J142,0) -> 0 | BG142: =IF(N142="zákl. prenesená",J142,0) -> 0 | BH142: =IF(N142="zníž. prenesená",J142,0) -> 0 | BI142: =IF(N142="nulová",J142,0) -> 0 | BJ142: 2 | BK142: =ROUND(I142*H142,3) -> 0 | BL142: 4 | BM142: -1597157337
D143: D | E143: 5 | F143: Komunikácie | J143: =BK143 -> 0 | P143: =SUM(P144:P145) -> 14.68 | R143: =SUM(R144:R145) -> 1.685 | T143: =SUM(T144:T145) -> 5.2 | AR143: 1 | AT143: D | AU143: 1 | AY143: ROZPOCET | BK143: =SUM(BK144:BK145) -> 0
C144: 10 | D144: K | E144: 113106613 | F144: Rozoberanie maloformátovej zámkovej dlažby v ploche do 20 m2 -0,260 t | G144: m2 | H144: 20 | J144: =ROUND(I144*H144,3) -> 0 | N144: znížená | O144: 0.134 | P144: =O144*H144 -> 2.68 | Q144: 0 | R144: =Q144*H144 -> 0 | S144: 0.26 | T144: =S144*H144 -> 5.2 | AR144: 4 | AT144: K | AU144: 2 | AY144: ROZPOCET | BE144: =IF(N144="základná",J144,0) -> 0 | BF144: =IF(N144="znížená",J144,0) -> 0 | BG144: =IF(N144="zákl. prenesená",J144,0) -> 0 | BH144: =IF(N144="zníž. prenesená",J144,0) -> 0 | BI144: =IF(N144="nulová",J144,0) -> 0 | BJ144: 2 | BK144: =ROUND(I144*H144,3) -> 0 | BL144: 4 | BM144: 1420063504
C145: 11 | D145: K | E145: 596211002 | F145: Kladenie dlažby po prekopoch, do lôžka z kameniva ťaženého, dlaždice betonové, zámkové | G145: m2 | H145: 20 | J145: =ROUND(I145*H145,3) -> 0 | N145: znížená | O145: 0.6 | P145: =O145*H145 -> 12 | Q145: 0.08425 | R145: =Q145*H145 -> 1.685 | S145: 0 | T145: =S145*H145 -> 0 | AR145: 4 | AT145: K | AU145: 2 | AY145: ROZPOCET | BE145: =IF(N145="základná",J145,0) -> 0 | BF145: =IF(N145="znížená",J145,0) -> 0 | BG145: =IF(N145="zákl. prenesená",J145,0) -> 0 | BH145: =IF(N145="zníž. prenesená",J145,0) -> 0 | BI145: =IF(N145="nulová",J145,0) -> 0 | BJ145: 2 | BK145: =ROUND(I145*H145,3) -> 0 | BL145: 4 | BM145: -1728372692
D146: D | E146: 8 | F146: Rúrové vedenie | J146: =BK146 -> 0 | P146: =SUM(P147:P158) -> 0 | R146: =SUM(R147:R158) -> 159.57208 | T146: =SUM(T147:T158) -> 0 | AR146: 1 | AT146: D | AU146: 1 | AY146: ROZPOCET | BK146: =SUM(BK147:BK158) -> 0
C147: 12 | D147: K | E147: 871251121 | F147: Montáž potrubia z tlakových polyetylénových rúrok priemeru 110 mm | G147: m | H147: 500 | J147: =ROUND(I147*H147,3) -> 0 | N147: znížená | O147: 0 | P147: =O147*H147 -> 0 | Q147: 0 | R147: =Q147*H147 -> 0 | S147: 0 | T147: =S147*H147 -> 0 | AR147: 4 | AT147: K | AU147: 2 | AY147: ROZPOCET | BE147: =IF(N147="základná",J147,0) -> 0 | BF147: =IF(N147="znížená",J147,0) -> 0 | BG147: =IF(N147="zákl. prenesená",J147,0) -> 0 | BH147: =IF(N147="zníž. prenesená",J147,0) -> 0 | BI147: =IF(N147="nulová",J147,0) -> 0 | BJ147: 2 | BK147: =ROUND(I147*H147,3) -> 0 | BL147: 4 | BM147: -1261789988
C148: 13 | D148: M | E148: VP403093W | F148: HDPE rúra voda 90x5,4 SDR17 PE100 PN10 100 m kotúč PIPELIFE RC SUPERTWIN | G148: m | H148: 500 | J148: =ROUND(I148*H148,3) -> 0 | N148: znížená | O148: 0 | P148: =O148*H148 -> 0 | Q148: 0.318 | R148: =Q148*H148 -> 159 | S148: 0 | T148: =S148*H148 -> 0 | AR148: 8 | AT148: M | AU148: 2 | AY148: ROZPOCET | BE148: =IF(N148="základná",J148,0) -> 0 | BF148: =IF(N148="znížená",J148,0) -> 0 | BG148: =IF(N148="zákl. prenesená",J148,0) -> 0 | BH148: =IF(N148="zníž. prenesená",J148,0) -> 0 | BI148: =IF(N148="nulová",J148,0) -> 0 | BJ148: 2 | BK148: =ROUND(I148*H148,3) -> 0 | BL148: 4 | BM148: 1118288652
C149: 14 | D149: K | E149: 891261111 | F149: Montáž posúvača s osadením zemnej súpravy (bez poklopov) DN 100 | G149: ks | H149: 2 | J149: =ROUND(I149*H149,3) -> 0 | N149: znížená | O149: 0 | P149: =O149*H149 -> 0 | Q149: 0.00163 | R149: =Q149*H149 -> 0.00326 | S149: 0 | T149: =S149*H149 -> 0 | AR149: 4 | AT149: K | AU149: 2 | AY149: ROZPOCET | BE149: =IF(N149="základná",J149,0) -> 0 | BF149: =IF(N149="znížená",J149,0) -> 0 | BG149: =IF(N149="zákl. prenesená",J149,0) -> 0 | BH149: =IF(N149="zníž. prenesená",J149,0) -> 0 | BI149: =IF(N149="nulová",J149,0) -> 0 | BJ149: 2 | BK149: =ROUND(I149*H149,3) -> 0 | BL149: 4 | BM149: -396566209
C150: 15 | D150: M | E150: 4222370900 | F150: Posúvač S 15-111-610 P 3, PN 10, D 100 mm | G150: ks | H150: 2 | J150: =ROUND(I150*H150,3) -> 0 | N150: znížená | O150: 0 | P150: =O150*H150 -> 0 | Q150: 0.045 | R150: =Q150*H150 -> 0.09 | S150: 0 | T150: =S150*H150 -> 0 | AR150: 8 | AT150: M | AU150: 2 | AY150: ROZPOCET | BE150: =IF(N150="základná",J150,0) -> 0 | BF150: =IF(N150="znížená",J150,0) -> 0 | BG150: =IF(N150="zákl. prenesená",J150,0) -> 0 | BH150: =IF(N150="zníž. prenesená",J150,0) -> 0 | BI150: =IF(N150="nulová",J150,0) -> 0 | BJ150: 2 | BK150: =ROUND(I150*H150,3) -> 0 | BL150: 4 | BM150: -548136713
C151: 16 | D151: K | E151: 892271111 | F151: Ostatné práce na rúrovom vedení, tlakové skúšky vodovodného potrubia DN 100 alebo 125 | G151: m | H151: 500 | J151: =ROUND(I151*H151,3) -> 0 | N151: znížená | O151: 0 | P151: =O151*H151 -> 0 | Q151: 0 | R151: =Q151*H151 -> 0 | S151: 0 | T151: =S151*H151 -> 0 | AR151: 4 | AT151: K | AU151: 2 | AY151: ROZPOCET | BE151: =IF(N151="základná",J151,0) -> 0 | BF151: =IF(N151="znížená",J151,0) -> 0 | BG151: =IF(N151="zákl. prenesená",J151,0) -> 0 | BH151: =IF(N151="zníž. prenesená",J151,0) -> 0 | BI151: =IF(N151="nulová",J151,0) -> 0 | BJ151: 2 | BK151: =ROUND(I151*H151,3) -> 0 | BL151: 4 | BM151: 2049282392
C152: 17 | D152: K | E152: 892273111 | F152: Preplach a dezinfekcia vodovodného potrubia DN od 80 do 125 | G152: m | H152: 500 | J152: =ROUND(I152*H152,3) -> 0 | N152: znížená | O152: 0 | P152: =O152*H152 -> 0 | Q152: 0 | R152: =Q152*H152 -> 0 | S152: 0 | T152: =S152*H152 -> 0 | AR152: 4 | AT152: K | AU152: 2 | AY152: ROZPOCET | BE152: =IF(N152="základná",J152,0) -> 0 | BF152: =IF(N152="znížená",J152,0) -> 0 | BG152: =IF(N152="zákl. prenesená",J152,0) -> 0 | BH152: =IF(N152="zníž. prenesená",J152,0) -> 0 | BI152: =IF(N152="nulová",J152,0) -> 0 | BJ152: 2 | BK152: =ROUND(I152*H152,3) -> 0 | BL152: 4 | BM152: 882456885
C153: 18 | D153: M | E153: 5524218100 | F153: Poklop posúvačový, voda, plyn | G153: ks | H153: 2 | J153: =ROUND(I153*H153,3) -> 0 | N153: znížená | O153: 0 | P153: =O153*H153 -> 0 | Q153: 0.0145 | R153: =Q153*H153 -> 0.029 | S153: 0 | T153: =S153*H153 -> 0 | AR153: 8 | AT153: M | AU153: 2 | AY153: ROZPOCET | BE153: =IF(N153="základná",J153,0) -> 0 | BF153: =IF(N153="znížená",J153,0) -> 0 | BG153: =IF(N153="zákl. prenesená",J153,0) -> 0 | BH153: =IF(N153="zníž. prenesená",J153,0) -> 0 | BI153: =IF(N153="nulová",J153,0) -> 0 | BJ153: 2 | BK153: =ROUND(I153*H153,3) -> 0 | BL153: 4 | BM153: -1930094243
C154: 19 | D154: K | E154: 899401112 | F154: Osadenie poklopu liatinového posúvačového | G154: ks | H154: 2 | J154: =ROUND(I154*H154,3) -> 0 | N154: znížená | O154: 0 | P154: =O154*H154 -> 0 | Q154: 0.11821 | R154: =Q154*H154 -> 0.23642 | S154: 0 | T154: =S154*H154 -> 0 | AR154: 4 | AT154: K | AU154: 2 | AY154: ROZPOCET | BE154: =IF(N154="základná",J154,0) -> 0 | BF154: =IF(N154="znížená",J154,0) -> 0 | BG154: =IF(N154="zákl. prenesená",J154,0) -> 0 | BH154: =IF(N154="zníž. prenesená",J154,0) -> 0 | BI154: =IF(N154="nulová",J154,0) -> 0 | BJ154: 2 | BK154: =ROUND(I154*H154,3) -> 0 | BL154: 4 | BM154: 1084315163
C155: 20 | D155: M | E155: 4229124000 | F155: Súprava zemná posúvačová Y 1020 D 100 mm | G155: ks | H155: 2 | J155: =ROUND(I155*H155,3) -> 0 | N155: znížená | O155: 0 | P155: =O155*H155 -> 0 | Q155: 0.008 | R155: =Q155*H155 -> 0.016 | S155: 0 | T155: =S155*H155 -> 0 | AR155: 8 | AT155: M | AU155: 2 | AY155: ROZPOCET | BE155: =IF(N155="základná",J155,0) -> 0 | BF155: =IF(N155="znížená",J155,0) -> 0 | BG155: =IF(N155="zákl. prenesená",J155,0) -> 0 | BH155: =IF(N155="zníž. prenesená",J155,0) -> 0 | BI155: =IF(N155="nulová",J155,0) -> 0 | BJ155: 2 | BK155: =ROUND(I155*H155,3) -> 0 | BL155: 4 | BM155: -1913694730
C156: 21 | D156: M | E156: 5534644100 | F156: Stĺpik z oceľovej rúrky SL 1 H 165 cm | G156: ks | H156: 4 | J156: =ROUND(I156*H156,3) -> 0 | N156: znížená | O156: 0 | P156: =O156*H156 -> 0 | Q156: 0.0091 | R156: =Q156*H156 -> 0.0364 | S156: 0 | T156: =S156*H156 -> 0 | AR156: 8 | AT156: M | AU156: 2 | AY156: ROZPOCET | BE156: =IF(N156="základná",J156,0) -> 0 | BF156: =IF(N156="znížená",J156,0) -> 0 | BG156: =IF(N156="zákl. prenesená",J156,0) -> 0 | BH156: =IF(N156="zníž. prenesená",J156,0) -> 0 | BI156: =IF(N156="nulová",J156,0) -> 0 | BJ156: 2 | BK156: =ROUND(I156*H156,3) -> 0 | BL156: 4 | BM156: 896714258
C157: 22 | D157: K | E157: 899721111 | F157: Vyhľadávací vodič na potrubí PVC DN do 150 mm | G157: m | H157: 500 | J157: =ROUND(I157*H157,3) -> 0 | N157: znížená | O157: 0 | P157: =O157*H157 -> 0 | Q157: 0.00032199897 | R157: =Q157*H157 -> 0.16099948 | S157: 0 | T157: =S157*H157 -> 0 | AR157: 4 | AT157: K | AU157: 2 | AY157: ROZPOCET | BE157: =IF(N157="základná",J157,0) -> 0 | BF157: =IF(N157="znížená",J157,0) -> 0 | BG157: =IF(N157="zákl. prenesená",J157,0) -> 0 | BH157: =IF(N157="zníž. prenesená",J157,0) -> 0 | BI157: =IF(N157="nulová",J157,0) -> 0 | BJ157: 2 | BK157: =ROUND(I157*H157,3) -> 0 | BL157: 4 | BM157: -1818011959
C158: 23 | D158: K | E158: 998276101 | F158: Presun hmôt pre rúrové vedenie hĺbené z rúr z plast. hmôt alebo sklolamin. v otvorenom výkope | G158: t | H158: 159.57 | J158: =ROUND(I158*H158,3) -> 0 | N158: znížená | O158: 0 | P158: =O158*H158 -> 0 | Q158: 0 | R158: =Q158*H158 -> 0 | S158: 0 | T158: =S158*H158 -> 0 | AR158: 4 | AT158: K | AU158: 2 | AY158: ROZPOCET | BE158: =IF(N158="základná",J158,0) -> 0 | BF158: =IF(N158="znížená",J158,0) -> 0 | BG158: =IF(N158="zákl. prenesená",J158,0) -> 0 | BH158: =IF(N158="zníž. prenesená",J158,0) -> 0 | BI158: =IF(N158="nulová",J158,0) -> 0 | BJ158: 2 | BK158: =ROUND(I158*H158,3) -> 0 | BL158: 4 | BM158: -779835438
D159: D | E159: PSV | F159: Práce a dodávky PSV | J159: =BK159 -> 0 | P159: =P160+P168+P178+P191 -> 657.55501 | R159: =R160+R168+R178+R191 -> 2.97314 | T159: =T160+T168+T178+T191 -> 0 | AR159: 2 | AT159: D | AU159: 0 | AY159: ROZPOCET | BK159: =BK160+BK168+BK178+BK191 -> 0
D160: D | E160: 713 | F160: Izolácie tepelné | J160: =BK160 -> 0 | P160: =SUM(P161:P167) -> 141.827 | R160: =SUM(R161:R167) -> 0.2281 | T160: =SUM(T161:T167) -> 0 | AR160: 2 | AT160: D | AU160: 1 | AY160: ROZPOCET | BK160: =SUM(BK161:BK167) -> 0
C161: 24 | D161: K | E161: 713482131 | F161: Montáž tepelnoizolačných trubíc z PE nasunutím na potrubie s prípadným pozdĺžnym a priečnym prerezaním a zalepením, hrúbka izolácie 30 mm, vnútorný priemer trubice do 38 mm | G161: m | H161: 450 | J161: =ROUND(I161*H161,3) -> 0 | N161: znížená | O161: 0.1371 | P161: =O161*H161 -> 61.695 | Q161: 4e-05 | R161: =Q161*H161 -> 0.018 | S161: 0 | T161: =S161*H161 -> 0 | AR161: 16 | AT161: K | AU161: 2 | AY161: ROZPOCET | BE161: =IF(N161="základná",J161,0) -> 0 | BF161: =IF(N161="znížená",J161,0) -> 0 | BG161: =IF(N161="zákl. prenesená",J161,0) -> 0 | BH161: =IF(N161="zníž. prenesená",J161,0) -> 0 | BI161: =IF(N161="nulová",J161,0) -> 0 | BJ161: 2 | BK161: =ROUND(I161*H161,3) -> 0 | BL161: 16 | BM161: -723396920
C162: 25 | D162: M | E162: 283310029400 | F162: Izolačná trubica ARMAFLEX ACe 28x25 mm (d x hr. izolácie), dĺ. 2 m, AZ FLEX | G162: m | H162: 310 | J162: =ROUND(I162*H162,3) -> 0 | N162: znížená | O162: 0 | P162: =O162*H162 -> 0 | Q162: 0.00023 | R162: =Q162*H162 -> 0.0713 | S162: 0 | T162: =S162*H162 -> 0 | AR162: 32 | AT162: M | AU162: 2 | AY162: ROZPOCET | BE162: =IF(N162="základná",J162,0) -> 0 | BF162: =IF(N162="znížená",J162,0) -> 0 | BG162: =IF(N162="zákl. prenesená",J162,0) -> 0 | BH162: =IF(N162="zníž. prenesená",J162,0) -> 0 | BI162: =IF(N162="nulová",J162,0) -> 0 | BJ162: 2 | BK162: =ROUND(I162*H162,3) -> 0 | BL162: 16 | BM162: 1193795297
...

Sheet SO01.2 - Chladenie kancel...
L2: >> skryté stĺpce << | AT2: {0a71baeb-1bf9-474d-8dbd-0d2c5a5fef85}
AT3: 0
D4: KRYCÍ LIST ROZPOČTU | M4: v --- nižšie sa nachádzajú doplnkové a pomocné údaje k zostavám --- v | AT4: False
D6: Stavba:
E7: ='Rekapitulácia stavby'!K6 -> BROTHER INDUSTRIES (SLOVAKIA)
D8: Objekt:
E9: SO01 - Prevádzka Krupina
D10: Časť:
E11: SO01.2 - Chladenie kancelárskych priestorov
D13: JKSO: | I13: KS:
D14: Miesto: | I14: Dátum:
D16: Objednávateľ: | I16: IČO:
E17: BROTHER INDUSTRIES (SLOVAKIA) | I17: IČ DPH:
D19: Zhotoviteľ: | I19: IČO: | J19: ='Rekapitulácia stavby'!AN13
E20: ='Rekapitulácia stavby'!E14 | I20: IČ DPH: | J20: ='Rekapitulácia stavby'!AN14
D22: Projektant: | I22: IČO: | J22: =IF('Rekapitulácia stavby'!AN16="","",'Rekapitulácia stavby'!AN16)
E23: =IF('Rekapitulácia stavby'!E17="","",'Rekapitulácia stavby'!E17) | I23: IČ DPH: | J23: =IF('Rekapitulácia stavby'!AN17="","",'Rekapitulácia stavby'!AN17)
D25: Spracovateľ: | I25: IČO: | J25: =IF('Rekapitulácia stavby'!AN19="","",'Rekapitulácia stavby'!AN19)
E26: =IF('Rekapitulácia stavby'!E20="","",'Rekapitulácia stavby'!E20) | I26: IČ DPH: | J26: =IF('Rekapitulácia stavby'!AN20="","",'Rekapitulácia stavby'!AN20)
D28: Poznámka:
D30: Prenesenie daňovej povinnosti:
E31: Pri fakturácii stavebných prác bude uplatnený režim prenosu daňovej povinnosti na príjemcu plnenia._x000D_ DPH zo základu sadzby odvedie príjemca plnenia podľa § 69 ods. 12 zákona č. 222/2004 o DPH.
D34: Cena bez DPH | J34: =ROUND(J125, 2) -> 0
F36: Základ dane | I36: Sadzba dane | J36: Výška dane
D37: DPH | E37: základná | F37: =ROUND((SUM(BE125:BE143)), 2) -> 0 | I37: 0.2 | J37: =ROUND(((SUM(BE125:BE143))*I37), 2) -> 0
E38: znížená | F38: =ROUND((SUM(BF125:BF143)), 2) -> 0 | I38: 0.2 | J38: =ROUND(((SUM(BF125:BF143))*I38), 2) -> 0
E39: zákl. prenesená | F39: =ROUND((SUM(BG125:BG143)), 2) -> 0 | I39: 0.2 | J39: =0 -> 0
E40: zníž. prenesená | F40: =ROUND((SUM(BH125:BH143)), 2) -> 0 | I40: 0.2 | J40: =0 -> 0
E41: nulová | F41: =ROUND((SUM(BI125:BI143)), 2) -> 0 | I41: 0 | J41: =0 -> 0
D43: Cena s DPH | G43: v | H43: EUR | J43: =SUM(J34:J41) -> 0
D50: Projektant | G50: Spracovateľ
D61: Dátum a podpis: | F61: Pečiatka | G61: Dátum a podpis: | J61: Pečiatka
D65: Objednávateľ | G65: Zhotoviteľ
D76: Dátum a podpis: | F76: Pečiatka | G76: Dátum a podpis: | J76: Pečiatka
C82: REKAPITULÁCIA ROZPOČTU
C84: Stavba:
E85: =E7 -> BROTHER INDUSTRIES (SLOVAKIA)
C86: Objekt:
E87: SO01 - Prevádzka Krupina
C88: Časť:
E89: =E11 -> SO01.2 - Chladenie kancelárskych priestorov
C91: Miesto: | F91: =F14 | I91: Dátum:
C93: Objednávateľ: | F93: =E17 -> BROTHER INDUSTRIES (SLOVAKIA) | I93: Projektant: | J93: =E23
C94: Zhotoviteľ: | F94: =IF(E20="","",E20) | I94: Spracovateľ: | J94: =E26
C96: Kód dielu - Popis | J96: Cena celkom [EUR]
C98: Náklady z rozpočtu | J98: =J125 -> 0 | AU98: -1
D99: PSV - Práce a dodávky PSV | J99: =J126 -> 0
D100: 713 - Izolácie tepelné | J100: =J127 -> 0
D101: 733 - Ústredné kúrenie - rozvodné potrubie | J101: =J132 -> 0
D102: 767 - Konštrukcie doplnkové kovové | J102: =J137 -> 0
D103: 769 - Montáže vzduchotechnických zariadení | J103: =J140 -> 0
C110: ROZPOČET
C112: Stavba:
E113: =E7 -> BROTHER INDUSTRIES (SLOVAKIA)
C114: Objekt:
E115: SO01 - Prevádzka Krupina
C116: Časť:
E117: =E11 -> SO01.2 - Chladenie kancelárskych priestorov
C119: Miesto: | F119: =F14 | I119: Dátum:
C121: Objednávateľ: | F121: =E17 -> BROTHER INDUSTRIES (SLOVAKIA) | I121: Projektant: | J121: =E23
C122: Zhotoviteľ: | F122: =IF(E20="","",E20) | I122: Spracovateľ: | J122: =E26
C124: PČ | D124: Typ | E124: Kód | F124: Popis | G124: MJ | H124: Množstvo | I124: J.cena [EUR] | J124: Cena celkom [EUR] | K124: Cenová sústava | N124: DPH | O124: J. Nh [h] | P124: Nh celkom [h] | Q124: J. hmotnosť [t] | R124: Hmotnosť celkom [t] | S124: J. suť [t] | T124: Suť Celkom [t]
C125: Náklady z rozpočtu | J125: =BK125 -> 0 | P125: =P126 -> 328.8472 | R125: =R126 -> 0.4822 | T125: =T126 -> 1.87 | AT125: D | AU125: -1 | BK125: =BK126 -> 0
D126: D | E126: PSV | F126: Práce a dodávky PSV | J126: =BK126 -> 0 | P126: =P127+P132+P137+P140 -> 328.8472 | R126: =R127+R132+R137+R140 -> 0.4822 | T126: =T127+T132+T137+T140 -> 1.87 | AR126: 2 | AT126: D | AU126: 0 | AY126: ROZPOCET | BK126: =BK127+BK132+BK137+BK140 -> 0
D127: D | E127: 713 | F127: Izolácie tepelné | J127: =BK127 -> 0 | P127: =SUM(P128:P131) -> 39.567 | R127: =SUM(R128:R131) -> 0.1938 | T127: =SUM(T128:T131) -> 0 | AR127: 2 | AT127: D | AU127: 1 | AY127: ROZPOCET | BK127: =SUM(BK128:BK131) -> 0
C128: 1 | D128: K | E128: 713482131 | F128: Montáž trubíc z PE, hr.30 mm,vnút.priemer do 38 mm | G128: m | H128: 120 | J128: =ROUND(I128*H128,3) -> 0 | N128: znížená | O128: 0.1371 | P128: =O128*H128 -> 16.452 | Q128: 4e-05 | R128: =Q128*H128 -> 0.0048 | S128: 0 | T128: =S128*H128 -> 0 | AR128: 16 | AT128: K | AU128: 2 | AY128: ROZPOCET | BE128: =IF(N128="základná",J128,0) -> 0 | BF128: =IF(N128="znížená",J128,0) -> 0 | BG128: =IF(N128="zákl. prenesená",J128,0) -> 0 | BH128: =IF(N128="zníž. prenesená",J128,0) -> 0 | BI128: =IF(N128="nulová",J128,0) -> 0 | BJ128: 2 | BK128: =ROUND(I128*H128,3) -> 0 | BL128: 16 | BM128: -638794976
C129: 2 | D129: M | E129: 283310026900 | F129: Izolačná trubica ARMAFLEX ACe 22x13 mm (d x hr. izolácie), dĺ. 2 m, AZ FLEX | G129: m | H129: 120 | J129: =ROUND(I129*H129,3) -> 0 | N129: znížená | O129: 0 | P129: =O129*H129 -> 0 | Q129: 0.00095 | R129: =Q129*H129 -> 0.114 | S129: 0 | T129: =S129*H129 -> 0 | AR129: 32 | AT129: M | AU129: 2 | AY129: ROZPOCET | BE129: =IF(N129="základná",J129,0) -> 0 | BF129: =IF(N129="znížená",J129,0) -> 0 | BG129: =IF(N129="zákl. prenesená",J129,0) -> 0 | BH129: =IF(N129="zníž. prenesená",J129,0) -> 0 | BI129: =IF(N129="nulová",J129,0) -> 0 | BJ129: 2 | BK129: =ROUND(I129*H129,3) -> 0 | BL129: 16 | BM129: 1181417300
C130: 3 | D130: K | E130: 713482132 | F130: Montáž trubíc z PE, hr.30 mm,vnút.priemer 39-70 mm | G130: m | H130: 150 | J130: =ROUND(I130*H130,3) -> 0 | N130: znížená | O130: 0.1541 | P130: =O130*H130 -> 23.115 | Q130: 4e-05 | R130: =Q130*H130 -> 0.006 | S130: 0 | T130: =S130*H130 -> 0 | AR130: 16 | AT130: K | AU130: 2 | AY130: ROZPOCET | BE130: =IF(N130="základná",J130,0) -> 0 | BF130: =IF(N130="znížená",J130,0) -> 0 | BG130: =IF(N130="zákl. prenesená",J130,0) -> 0 | BH130: =IF(N130="zníž. prenesená",J130,0) -> 0 | BI130: =IF(N130="nulová",J130,0) -> 0 | BJ130: 2 | BK130: =ROUND(I130*H130,3) -> 0 | BL130: 16 | BM130: -1544455209
C131: 4 | D131: M | E131: 283310027400 | F131: Izolačná trubica ARMAFLEX ACe 54x13 mm (d x hr. izolácie), dĺ. 2 m, AZ FLEX | G131: m | H131: 150 | J131: =ROUND(I131*H131,3) -> 0 | N131: znížená | O131: 0 | P131: =O131*H131 -> 0 | Q131: 0.00046 | R131: =Q131*H131 -> 0.069 | S131: 0 | T131: =S131*H131 -> 0 | AR131: 32 | AT131: M | AU131: 2 | AY131: ROZPOCET | BE131: =IF(N131="základná",J131,0) -> 0 | BF131: =IF(N131="znížená",J131,0) -> 0 | BG131: =IF(N131="zákl. prenesená",J131,0) -> 0 | BH131: =IF(N131="zníž. prenesená",J131,0) -> 0 | BI131: =IF(N131="nulová",J131,0) -> 0 | BJ131: 2 | BK131: =ROUND(I131*H131,3) -> 0 | BL131: 16 | BM131: -594159139
D132: D | E132: 733 | F132: Ústredné kúrenie - rozvodné potrubie | J132: =BK132 -> 0 | P132: =SUM(P133:P136) -> 88.0296 | R132: =SUM(R133:R136) -> 0.2799 | T132: =SUM(T133:T136) -> 0 | AR132: 2 | AT132: D | AU132: 1 | AY132: ROZPOCET | BK132: =SUM(BK133:BK136) -> 0
C133: 5 | D133: K | E133: 733141006 | F133: Potrubie z nerezových rúrok spájaných lisovaním DN 22 | G133: m | H133: 120 | J133: =ROUND(I133*H133,3) -> 0 | N133: znížená | O133: 0.24508 | P133: =O133*H133 -> 29.4096 | Q133: 0.00092 | R133: =Q133*H133 -> 0.1104 | S133: 0 | T133: =S133*H133 -> 0 | AR133: 16 | AT133: K | AU133: 2 | AY133: ROZPOCET | BE133: =IF(N133="základná",J133,0) -> 0 | BF133: =IF(N133="znížená",J133,0) -> 0 | BG133: =IF(N133="zákl. prenesená",J133,0) -> 0 | BH133: =IF(N133="zníž. prenesená",J133,0) -> 0 | BI133: =IF(N133="nulová",J133,0) -> 0 | BJ133: 2 | BK133: =ROUND(I133*H133,3) -> 0 | BL133: 16 | BM133: 1577996684
C134: 6 | D134: K | E134: 733141018 | F134: Potrubie z nerezových rúrok spájaných lisovaním DN 54 | G134: m | H134: 150 | J134: =ROUND(I134*H134,3) -> 0 | N134: znížená | O134: 0.335 | P134: =O134*H134 -> 50.25 | Q134: 0.00113 | R134: =Q134*H134 -> 0.1695 | S134: 0 | T134: =S134*H134 -> 0 | AR134: 16 | AT134: K | AU134: 2 | AY134: ROZPOCET | BE134: =IF(N134="základná",J134,0) -> 0 | BF134: =IF(N134="znížená",J134,0) -> 0 | BG134: =IF(N134="zákl. prenesená",J134,0) -> 0 | BH134: =IF(N134="zníž. prenesená",J134,0) -> 0 | BI134: =IF(N134="nulová",J134,0) -> 0 | BJ134: 2 | BK134: =ROUND(I134*H134,3) -> 0 | BL134: 16 | BM134: -1574446063
C135: 7 | D135: K | E135: 733190217 | F135: Ostatné tlakové skúšky potrubia z oceľových rúrok do D 89/5 | G135: m | H135: 270 | J135: =ROUND(I135*H135,3) -> 0 | N135: znížená | O135: 0.031 | P135: =O135*H135 -> 8.37 | Q135: 0 | R135: =Q135*H135 -> 0 | S135: 0 | T135: =S135*H135 -> 0 | AR135: 16 | AT135: K | AU135: 2 | AY135: ROZPOCET | BE135: =IF(N135="základná",J135,0) -> 0 | BF135: =IF(N135="znížená",J135,0) -> 0 | BG135: =IF(N135="zákl. prenesená",J135,0) -> 0 | BH135: =IF(N135="zníž. prenesená",J135,0) -> 0 | BI135: =IF(N135="nulová",J135,0) -> 0 | BJ135: 2 | BK135: =ROUND(I135*H135,3) -> 0 | BL135: 16 | BM135: -1861952347
C136: 8 | D136: K | E136: 998733201 | F136: Presun hmôt pre rozvody potrubia v objektoch výšky do 6 m | G136: % | H136: 89.992 | J136: =ROUND(I136*H136,3) -> 0 | N136: znížená | O136: 0 | P136: =O136*H136 -> 0 | Q136: 0 | R136: =Q136*H136 -> 0 | S136: 0 | T136: =S136*H136 -> 0 | AR136: 16 | AT136: K | AU136: 2 | AY136: ROZPOCET | BE136: =IF(N136="základná",J136,0) -> 0 | BF136: =IF(N136="znížená",J136,0) -> 0 | BG136: =IF(N136="zákl. prenesená",J136,0) -> 0 | BH136: =IF(N136="zníž. prenesená",J136,0) -> 0 | BI136: =IF(N136="nulová",J136,0) -> 0 | BJ136: 2 | BK136: =ROUND(I136*H136,3) -> 0 | BL136: 16 | BM136: -1952114466
D137: D | E137: 767 | F137: Konštrukcie doplnkové kovové | J137: =BK137 -> 0 | P137: =SUM(P138:P139) -> 124.2836 | R137: =SUM(R138:R139) -> 0.0085 | T137: =SUM(T138:T139) -> 1.87 | AR137: 2 | AT137: D | AU137: 1 | AY137: ROZPOCET | BK137: =SUM(BK138:BK139) -> 0
C138: 9 | D138: K | E138: 767131801 | F138: Demontáž podhľadov kazetových FEAL, -0,02200t | G138: m2 | H138: 85 | J138: =ROUND(I138*H138,3) -> 0 | N138: znížená | O138: 0.527 | P138: =O138*H138 -> 44.795 | Q138: 0 | R138: =Q138*H138 -> 0 | S138: 0.022 | T138: =S138*H138 -> 1.87 | AR138: 16 | AT138: K | AU138: 2 | AY138: ROZPOCET | BE138: =IF(N138="základná",J138,0) -> 0 | BF138: =IF(N138="znížená",J138,0) -> 0 | BG138: =IF(N138="zákl. prenesená",J138,0) -> 0 | BH138: =IF(N138="zníž. prenesená",J138,0) -> 0 | BI138: =IF(N138="nulová",J138,0) -> 0 | BJ138: 2 | BK138: =ROUND(I138*H138,3) -> 0 | BL138: 16 | BM138: 1794762975
C139: 10 | D139: K | E139: 767584153 | F139: Montáž podhľadov kazetových, systém FEAL z kaziet veľkosti 600 x 600 mm, s plochou nad 20 m2 | G139: m2 | H139: 85 | J139: =ROUND(I139*H139,3) -> 0 | N139: znížená | O139: 0.93516 | P139: =O139*H139 -> 79.4886 | Q139: 0.0001 | R139: =Q139*H139 -> 0.0085 | S139: 0 | T139: =S139*H139 -> 0 | AR139: 16 | AT139: K | AU139: 2 | AY139: ROZPOCET | BE139: =IF(N139="základná",J139,0) -> 0 | BF139: =IF(N139="znížená",J139,0) -> 0 | BG139: =IF(N139="zákl. prenesená",J139,0) -> 0 | BH139: =IF(N139="zníž. prenesená",J139,0) -> 0 | BI139: =IF(N139="nulová",J139,0) -> 0 | BJ139: 2 | BK139: =ROUND(I139*H139,3) -> 0 | BL139: 16 | BM139: 2087216474
D140: D | E140: 769 | F140: Montáže vzduchotechnických zariadení | J140: =BK140 -> 0 | P140: =SUM(P141:P143) -> 76.967 | R140: =SUM(R141:R143) -> 0 | T140: =SUM(T141:T143) -> 0 | AR140: 2 | AT140: D | AU140: 1 | AY140: ROZPOCET | BK140: =SUM(BK141:BK143) -> 0
C141: 11 | D141: K | E141: 769060020 | F141: Montáž fancoilov dvojtrubkových IVAR | G141: ks | H141: 11 | J141: =ROUND(I141*H141,3) -> 0 | N141: znížená | O141: 6.997 | P141: =O141*H141 -> 76.967 | Q141: 0 | R141: =Q141*H141 -> 0 | S141: 0 | T141: =S141*H141 -> 0 | AR141: 16 | AT141: K | AU141: 2 | AY141: ROZPOCET | BE141: =IF(N141="základná",J141,0) -> 0 | BF141: =IF(N141="znížená",J141,0) -> 0 | BG141: =IF(N141="zákl. prenesená",J141,0) -> 0 | BH141: =IF(N141="zníž. prenesená",J141,0) -> 0 | BI141: =IF(N141="nulová",J141,0) -> 0 | BJ141: 2 | BK141: =ROUND(I141*H141,3) -> 0 | BL141: 16 | BM141: 509464983
C142: 12 | D142: M | E142: fcI | F142: Fancoil podstropný - dvojtrubkové vyhotovenie - IVAR | G142: ks | H142: 6 | J142: =ROUND(I142*H142,3) -> 0 | N142: znížená | O142: 0 | P142: =O142*H142 -> 0 | Q142: 0 | R142: =Q142*H142 -> 0 | S142: 0 | T142: =S142*H142 -> 0 | AR142: 32 | AT142: M | AU142: 2 | AY142: ROZPOCET | BE142: =IF(N142="základná",J142,0) -> 0 | BF142: =IF(N142="znížená",J142,0) -> 0 | BG142: =IF(N142="zákl. prenesená",J142,0) -> 0 | BH142: =IF(N142="zníž. prenesená",J142,0) -> 0 | BI142: =IF(N142="nulová",J142,0) -> 0 | BJ142: 2 | BK142: =ROUND(I142*H142,3) -> 0 | BL142: 16 | BM142: -113125639
C143: 13 | D143: M | E143: fcI1 | F143: Fancoil podstropný - dvojtrubkové vyhotovenie - IVAR | G143: ks | H143: 5 | J143: =ROUND(I143*H143,3) -> 0 | N143: znížená | O143: 0 | P143: =O143*H143 -> 0 | Q143: 0 | R143: =Q143*H143 -> 0 | S143: 0 | T143: =S143*H143 -> 0 | AR143: 32 | AT143: M | AU143: 2 | AY143: ROZPOCET | BE143: =IF(N143="základná",J143,0) -> 0 | BF143: =IF(N143="znížená",J143,0) -> 0 | BG143: =IF(N143="zákl. prenesená",J143,0) -> 0 | BH143: =IF(N143="zníž. prenesená",J143,0) -> 0 | BI143: =IF(N143="nulová",J143,0) -> 0 | BJ143: 2 | BK143: =ROUND(I143*H143,3) -> 0 | BL143: 16 | BM143: -140861040
